View In:
ArcGIS JavaScript
ArcGIS Online Map Viewer
ArcGIS Earth
Service Description: ISC/croplandMasked
Name: ISC/croplandMasked
Description:
Single Fused Map Cache: false
Extent:
XMin: 52256.73230172973
YMin: 3413503.9430185705
XMax: 736736.7323017297
YMax: 4152133.9430185705
Spatial Reference: 32613
(32613)
LatestVCSWkid(0)
Initial Extent:
XMin: 52256.73230172973
YMin: 3413503.9430185705
XMax: 736736.7323017297
YMax: 4152133.9430185705
Spatial Reference: 32613
(32613)
LatestVCSWkid(0)
Full Extent:
XMin: 52256.73230172973
YMin: 3413503.9430185705
XMax: 736736.7323017297
YMax: 4152133.9430185705
Spatial Reference: 32613
(32613)
LatestVCSWkid(0)
Pixel Size X: 30.0
Pixel Size Y: 30.0
Band Count: 1
Pixel Type: U8
RasterFunction Infos: {"rasterFunctionInfos": [{
"name": "None",
"description": "",
"help": ""
}]}
Mensuration Capabilities: Basic
Inspection Capabilities:
Has Histograms: true
Has Colormap: false
Has Multi Dimensions : false
Rendering Rule:
Min Scale: 0
Max Scale: 0
Copyright Text:
Service Data Type: esriImageServiceDataTypeGeneric
Min Values: 0
Max Values: 255
Mean Values: 151.70453391840584
Standard Deviation Values: 23.16798215908909
Object ID Field:
Fields:
None
Default Mosaic Method: Center
Allowed Mosaic Methods:
SortField:
SortValue: null
Mosaic Operator: First
Default Compression Quality: 75
Default Resampling Method: Bilinear
Max Record Count: null
Max Image Height: 4100
Max Image Width: 15000
Max Download Image Count: null
Max Mosaic Image Count: null
Allow Raster Function: true
Allow Copy: true
Allow Analysis: true
Allow Compute TiePoints: false
Supports Statistics: false
Supports Advanced Queries: false
Use StandardizedQueries: true
Raster Type Infos:
Name: Raster Dataset
Description: Supports all ArcGIS Raster Datasets
Help:
Has Raster Attribute Table: false
Edit Fields Info: null
Ownership Based AccessControl For Rasters: null
Child Resources:
Info
Histograms
Statistics
Key Properties
Legend
Raster Function Infos
Supported Operations:
Export Image
Identify
Measure
Compute Histograms
Compute Statistics Histograms
Get Samples
Compute Class Statistics
Query Boundary
Compute Pixel Location
Compute Angles
Validate
Project